BEGIN:VCALENDAR
VERSION:2.0
PRODID:-//The Christ Church School - ECPv6.15.11//NONSGML v1.0//EN
CALSCALE:GREGORIAN
METHOD:PUBLISH
X-ORIGINAL-URL:https://thechristchurchschool.com
X-WR-CALDESC:Events for The Christ Church School
REFRESH-INTERVAL;VALUE=DURATION:PT1H
X-Robots-Tag:noindex
X-PUBLISHED-TTL:PT1H
BEGIN:VTIMEZONE
TZID:UTC
BEGIN:STANDARD
TZOFFSETFROM:+0000
TZOFFSETTO:+0000
TZNAME:UTC
DTSTART:20210101T000000
END:STANDARD
END:VTIMEZONE
BEGIN:VEVENT
DTSTART;VALUE=DATE:20220103
DTEND;VALUE=DATE:20221231
DTSTAMP:20260420T073315
CREATED:20190807T141922Z
LAST-MODIFIED:20220416T235805Z
UID:216-1641168000-1672444799@thechristchurchschool.com
SUMMARY:Admissions are Ongoing
DESCRIPTION:Admissions are ongoing at the Christ Church School.
URL:https://thechristchurchschool.com/event/admissions-are-ongoing/
CATEGORIES:Best
ATTACH;FMTTYPE=image/jpeg:https://thechristchurchschool.com/wp-content/uploads/2022/04/IMG_1173-1-scaled.jpg
ORGANIZER;CN="CCS Adminstration":MAILTO:info@thechristchurchschool.com
END:VEVENT
END:VCALENDAR